BEGIN:VCALENDAR
VERSION:2.0
PRODID:-//OMAS GEGEN RECHTS DEUTSCHLAND-BÜNDNIS - ECPv6.15.16//NONSGML v1.0//EN
CALSCALE:GREGORIAN
METHOD:PUBLISH
X-WR-CALNAME:OMAS GEGEN RECHTS DEUTSCHLAND-BÜNDNIS
X-ORIGINAL-URL:https://omasgegenrechts-deutschland.de
X-WR-CALDESC:Veranstaltungen für OMAS GEGEN RECHTS DEUTSCHLAND-BÜNDNIS
REFRESH-INTERVAL;VALUE=DURATION:PT1H
X-Robots-Tag:noindex
X-PUBLISHED-TTL:PT1H
BEGIN:VTIMEZONE
TZID:Europe/Berlin
BEGIN:DAYLIGHT
TZOFFSETFROM:+0100
TZOFFSETTO:+0200
TZNAME:CEST
DTSTART:20230326T010000
END:DAYLIGHT
BEGIN:STANDARD
TZOFFSETFROM:+0200
TZOFFSETTO:+0100
TZNAME:CET
DTSTART:20231029T010000
END:STANDARD
BEGIN:DAYLIGHT
TZOFFSETFROM:+0100
TZOFFSETTO:+0200
TZNAME:CEST
DTSTART:20240331T010000
END:DAYLIGHT
BEGIN:STANDARD
TZOFFSETFROM:+0200
TZOFFSETTO:+0100
TZNAME:CET
DTSTART:20241027T010000
END:STANDARD
BEGIN:DAYLIGHT
TZOFFSETFROM:+0100
TZOFFSETTO:+0200
TZNAME:CEST
DTSTART:20250330T010000
END:DAYLIGHT
BEGIN:STANDARD
TZOFFSETFROM:+0200
TZOFFSETTO:+0100
TZNAME:CET
DTSTART:20251026T010000
END:STANDARD
END:VTIMEZONE
BEGIN:VEVENT
DTSTART;TZID=Europe/Berlin:20240421T110000
DTEND;TZID=Europe/Berlin:20240421T180000
DTSTAMP:20260425T132341
CREATED:20240412T083543Z
LAST-MODIFIED:20240412T084111Z
UID:5007-1713697200-1713722400@omasgegenrechts-deutschland.de
SUMMARY:OMAS GEGEN RECHTS KASSEL BEIM TAG DER ERDE
DESCRIPTION:Die OMAS GEGEN RECHTS Kassel werden wieder mit einem Stand am Tag der Erde am 21. April ab 11 Uhr teilnehmen (Ort: Sandershäuser Straße\, Stand 98). Sie werden dort auch Themen zur anstehenden Europawahl aufgreifen. Zur Tradition des Kasseler Tages der Erde gehört es\, dass das Fest jedes Jahr in einem anderen Stadtteil gefeiert wird. \nEinmal an einem Tag im Jahr wird dann eine ansonsten viel befahrene Verkehrsfläche zum Begegnungsort für Fußgänger und zum Spielraum für Kinder. Das Interesse von Stadtteilen\, den Tag der Erde zu nutzen\, um sich in ihrer lebendigen Vielfalt einem größeren Publikum zu präsentieren\, hat in den letzten Jahren stark zugenommen.
URL:https://omasgegenrechts-deutschland.de/termin/omas-gegen-rechts-kassel-beim-tag-der-erde/
END:VEVENT
END:VCALENDAR