BEGIN:VCALENDAR
VERSION:2.0
PRODID:-//OMAS GEGEN RECHTS DEUTSCHLAND-BÜNDNIS - ECPv6.15.16//NONSGML v1.0//EN
CALSCALE:GREGORIAN
METHOD:PUBLISH
X-ORIGINAL-URL:https://omasgegenrechts-deutschland.de
X-WR-CALDESC:Veranstaltungen für OMAS GEGEN RECHTS DEUTSCHLAND-BÜNDNIS
REFRESH-INTERVAL;VALUE=DURATION:PT1H
X-Robots-Tag:noindex
X-PUBLISHED-TTL:PT1H
BEGIN:VTIMEZONE
TZID:Europe/Berlin
BEGIN:DAYLIGHT
TZOFFSETFROM:+0100
TZOFFSETTO:+0200
TZNAME:CEST
DTSTART:20230326T010000
END:DAYLIGHT
BEGIN:STANDARD
TZOFFSETFROM:+0200
TZOFFSETTO:+0100
TZNAME:CET
DTSTART:20231029T010000
END:STANDARD
BEGIN:DAYLIGHT
TZOFFSETFROM:+0100
TZOFFSETTO:+0200
TZNAME:CEST
DTSTART:20240331T010000
END:DAYLIGHT
BEGIN:STANDARD
TZOFFSETFROM:+0200
TZOFFSETTO:+0100
TZNAME:CET
DTSTART:20241027T010000
END:STANDARD
BEGIN:DAYLIGHT
TZOFFSETFROM:+0100
TZOFFSETTO:+0200
TZNAME:CEST
DTSTART:20250330T010000
END:DAYLIGHT
BEGIN:STANDARD
TZOFFSETFROM:+0200
TZOFFSETTO:+0100
TZNAME:CET
DTSTART:20251026T010000
END:STANDARD
END:VTIMEZONE
BEGIN:VEVENT
DTSTART;TZID=Europe/Berlin:20240517T150000
DTEND;TZID=Europe/Berlin:20240517T180000
DTSTAMP:20260423T220819
CREATED:20240510T145854Z
LAST-MODIFIED:20240510T155244Z
UID:5109-1715958000-1715968800@omasgegenrechts-deutschland.de
SUMMARY:Info-Stand der OMAS GEGEN RECHTS Kassel zur EU-Wahl 2024
DESCRIPTION:Die OMAS GEGEN RECHTS Kassel sind mit ihrem Informationsstand zur Europawahl 2024 aktiv vor Ort. \nAm:       Freitag\, 17. Mai 2024 \nVon:      15Uhr – 18Uhr \nOrt:        Markthalle Kassel\, Marställer Platz 10\, 34117 Kassel \nMaterialien / Gespräche / Materialien / Gespräche / Materialien
URL:https://omasgegenrechts-deutschland.de/termin/info-stand-der-omas-gegen-rechts-kassel-zur-eu-wahl-2024/
LOCATION:Markthalle Kassel\, Marställer Platz 10\, 34117 Kassel\, Deutschland
END:VEVENT
END:VCALENDAR