BEGIN:VCALENDAR
VERSION:2.0
PRODID:-//OMAS GEGEN RECHTS DEUTSCHLAND-BÜNDNIS - ECPv6.15.16//NONSGML v1.0//EN
CALSCALE:GREGORIAN
METHOD:PUBLISH
X-WR-CALNAME:OMAS GEGEN RECHTS DEUTSCHLAND-BÜNDNIS
X-ORIGINAL-URL:https://omasgegenrechts-deutschland.de
X-WR-CALDESC:Veranstaltungen für OMAS GEGEN RECHTS DEUTSCHLAND-BÜNDNIS
REFRESH-INTERVAL;VALUE=DURATION:PT1H
X-Robots-Tag:noindex
X-PUBLISHED-TTL:PT1H
BEGIN:VTIMEZONE
TZID:Europe/Berlin
BEGIN:DAYLIGHT
TZOFFSETFROM:+0100
TZOFFSETTO:+0200
TZNAME:CEST
DTSTART:20230326T010000
END:DAYLIGHT
BEGIN:STANDARD
TZOFFSETFROM:+0200
TZOFFSETTO:+0100
TZNAME:CET
DTSTART:20231029T010000
END:STANDARD
BEGIN:DAYLIGHT
TZOFFSETFROM:+0100
TZOFFSETTO:+0200
TZNAME:CEST
DTSTART:20240331T010000
END:DAYLIGHT
BEGIN:STANDARD
TZOFFSETFROM:+0200
TZOFFSETTO:+0100
TZNAME:CET
DTSTART:20241027T010000
END:STANDARD
BEGIN:DAYLIGHT
TZOFFSETFROM:+0100
TZOFFSETTO:+0200
TZNAME:CEST
DTSTART:20250330T010000
END:DAYLIGHT
BEGIN:STANDARD
TZOFFSETFROM:+0200
TZOFFSETTO:+0100
TZNAME:CET
DTSTART:20251026T010000
END:STANDARD
END:VTIMEZONE
BEGIN:VEVENT
DTSTART;TZID=Europe/Berlin:20240524T170000
DTEND;TZID=Europe/Berlin:20240524T180000
DTSTAMP:20260423T220634
CREATED:20240522T151324Z
LAST-MODIFIED:20240522T151324Z
UID:5128-1716570000-1716573600@omasgegenrechts-deutschland.de
SUMMARY:Mahnwache OMAS GEGEN RECHTS Trier
DESCRIPTION:Nie wieder ist jetzt!\nAnlässlich der bevorstehenden Kommunalwahl und der Europawahl am 09. Juni. 2024 wird es in der Trierer Innenstadt immer Freitags von 17:00 Uhr – 18:00 Uhr eine Mahnwache der OMAS GEGEN RECHTS Trier geben.\nGemeinsam für eine solidarische und tolerante Gesellschaft.
URL:https://omasgegenrechts-deutschland.de/termin/mahnwache-omas-gegen-rechts-trier/
LOCATION:54290 Trier\, Am Pranger\, Grabenstrasse\, Trier\, 54290\, Deutschland
END:VEVENT
END:VCALENDAR