BEGIN:VCALENDAR
VERSION:2.0
PRODID:-//OMAS GEGEN RECHTS DEUTSCHLAND-BÜNDNIS - ECPv6.15.16//NONSGML v1.0//EN
CALSCALE:GREGORIAN
METHOD:PUBLISH
X-ORIGINAL-URL:https://omasgegenrechts-deutschland.de
X-WR-CALDESC:Veranstaltungen für OMAS GEGEN RECHTS DEUTSCHLAND-BÜNDNIS
REFRESH-INTERVAL;VALUE=DURATION:PT1H
X-Robots-Tag:noindex
X-PUBLISHED-TTL:PT1H
BEGIN:VTIMEZONE
TZID:Europe/Berlin
BEGIN:DAYLIGHT
TZOFFSETFROM:+0100
TZOFFSETTO:+0200
TZNAME:CEST
DTSTART:20230326T010000
END:DAYLIGHT
BEGIN:STANDARD
TZOFFSETFROM:+0200
TZOFFSETTO:+0100
TZNAME:CET
DTSTART:20231029T010000
END:STANDARD
BEGIN:DAYLIGHT
TZOFFSETFROM:+0100
TZOFFSETTO:+0200
TZNAME:CEST
DTSTART:20240331T010000
END:DAYLIGHT
BEGIN:STANDARD
TZOFFSETFROM:+0200
TZOFFSETTO:+0100
TZNAME:CET
DTSTART:20241027T010000
END:STANDARD
BEGIN:DAYLIGHT
TZOFFSETFROM:+0100
TZOFFSETTO:+0200
TZNAME:CEST
DTSTART:20250330T010000
END:DAYLIGHT
BEGIN:STANDARD
TZOFFSETFROM:+0200
TZOFFSETTO:+0100
TZNAME:CET
DTSTART:20251026T010000
END:STANDARD
END:VTIMEZONE
BEGIN:VEVENT
DTSTART;TZID=Europe/Berlin:20240607T150000
DTEND;TZID=Europe/Berlin:20240607T180000
DTSTAMP:20260423T165046
CREATED:20240510T154220Z
LAST-MODIFIED:20240510T155127Z
UID:5122-1717772400-1717783200@omasgegenrechts-deutschland.de
SUMMARY:Info-Stand der OMAS GEGEN RECHTS Kassel zur EU-Wahl 2024
DESCRIPTION:Die OMAS GEGEN RECHTS Kassel sind mit ihrem Informationsstand zur Europawahl 2024 aktiv vor Ort \nAm:       Freitag\, 7. Juni 2024 \nVon:      15Uhr – 18Uhr \nOrt:        TEGUT\, Leipziger Straße 136\, 34123 Kassel \nMaterialien / Gespräche / Materialien / Gespräche / Materialien
URL:https://omasgegenrechts-deutschland.de/termin/info-stand-der-omas-gegen-rechts-kassel-zur-eu-wahl-2024-3/
LOCATION:TEGUT\, Leipziger Straße 136\, 34123 Kassel\, Deutschland
END:VEVENT
BEGIN:VEVENT
DTSTART;TZID=Europe/Berlin:20240608T120000
DTEND;TZID=Europe/Berlin:20240608T160000
DTSTAMP:20260423T165046
CREATED:20240606T112236Z
LAST-MODIFIED:20240606T112236Z
UID:5152-1717848000-1717862400@omasgegenrechts-deutschland.de
SUMMARY:Info-Stand der OMAS GEGEN RECHTS Kassel zur EU-Wahl 2024
DESCRIPTION:
URL:https://omasgegenrechts-deutschland.de/termin/info-stand-der-omas-gegen-rechts-kassel-zur-eu-wahl-2024-4/
LOCATION:Friedrichsplatz 19-20\, neben Sinn\, 34117 Kassel
END:VEVENT
BEGIN:VEVENT
DTSTART;TZID=Europe/Berlin:20240614T174500
DTEND;TZID=Europe/Berlin:20240614T191500
DTSTAMP:20260423T165046
CREATED:20240611T134211Z
LAST-MODIFIED:20240611T134211Z
UID:5156-1718387100-1718392500@omasgegenrechts-deutschland.de
SUMMARY:14. Juni: Wächterdienst an der Kasseler Synagoge
DESCRIPTION:Die Omas Gegen Rechts Kassel übernehmen am 14. Juni die Patenschaft für den Wächterdienst (von 17:45 bis 19:15 Uhr) an der Synagoge Kassel\, Bremer Straße 3\, für den Schabbat-Gottesdienst. \nUm ein Zeichen zu setzen gegen Antisemitismus\, Drohungen und Hass\,\nsind alle eingeladen\, ihre Solidarität\, durch eine Teilnahme an dieser Mahnwache zu zeigen
URL:https://omasgegenrechts-deutschland.de/termin/14-juni-waechterdienst-an-der-kasseler-synagoge/
LOCATION:Bremer Straße 3 in Kassel
END:VEVENT
BEGIN:VEVENT
DTSTART;TZID=Europe/Berlin:20240620T150000
DTEND;TZID=Europe/Berlin:20240620T180000
DTSTAMP:20260423T165046
CREATED:20240423T152637Z
LAST-MODIFIED:20240423T152637Z
UID:5040-1718895600-1718906400@omasgegenrechts-deutschland.de
SUMMARY:Präsenztreffen OMAS GEGEN RECHTS Kassel
DESCRIPTION:Die OMAS GEGEN RECHTS Kassel treffen sich jeden 3. Donnerstag im Monat in Präsenz. \nBeginn für neue\, interessierte OMAS ist 15.00Uhr. \nBeginn Plenum ist 15.30Uhr. \nEnde gegen 18.00Uhr. \nOrt: Haus der Sozialwirtschaft\, Treppe 4\, Viva / 5. Stock\, Treppenstraße 4\, 34117 Kassel
URL:https://omasgegenrechts-deutschland.de/termin/praesenztreffen-omas-gegen-rechts-kassel-3/
LOCATION:34117 Kassel\, Haus der Sozialwirtschaft\, Kassel\, 34117\, Deutschland
END:VEVENT
END:VCALENDAR