BEGIN:VCALENDAR
VERSION:2.0
PRODID:-//OMAS GEGEN RECHTS DEUTSCHLAND-BÜNDNIS - ECPv6.15.16//NONSGML v1.0//EN
CALSCALE:GREGORIAN
METHOD:PUBLISH
X-WR-CALNAME:OMAS GEGEN RECHTS DEUTSCHLAND-BÜNDNIS
X-ORIGINAL-URL:https://omasgegenrechts-deutschland.de
X-WR-CALDESC:Veranstaltungen für OMAS GEGEN RECHTS DEUTSCHLAND-BÜNDNIS
REFRESH-INTERVAL;VALUE=DURATION:PT1H
X-Robots-Tag:noindex
X-PUBLISHED-TTL:PT1H
BEGIN:VTIMEZONE
TZID:Europe/Berlin
BEGIN:DAYLIGHT
TZOFFSETFROM:+0100
TZOFFSETTO:+0200
TZNAME:CEST
DTSTART:20230326T010000
END:DAYLIGHT
BEGIN:STANDARD
TZOFFSETFROM:+0200
TZOFFSETTO:+0100
TZNAME:CET
DTSTART:20231029T010000
END:STANDARD
BEGIN:DAYLIGHT
TZOFFSETFROM:+0100
TZOFFSETTO:+0200
TZNAME:CEST
DTSTART:20240331T010000
END:DAYLIGHT
BEGIN:STANDARD
TZOFFSETFROM:+0200
TZOFFSETTO:+0100
TZNAME:CET
DTSTART:20241027T010000
END:STANDARD
BEGIN:DAYLIGHT
TZOFFSETFROM:+0100
TZOFFSETTO:+0200
TZNAME:CEST
DTSTART:20250330T010000
END:DAYLIGHT
BEGIN:STANDARD
TZOFFSETFROM:+0200
TZOFFSETTO:+0100
TZNAME:CET
DTSTART:20251026T010000
END:STANDARD
END:VTIMEZONE
BEGIN:VEVENT
DTSTART;TZID=Europe/Berlin:20241017T150000
DTEND;TZID=Europe/Berlin:20241017T180000
DTSTAMP:20260423T135323
CREATED:20240423T153950Z
LAST-MODIFIED:20240423T153950Z
UID:5047-1729177200-1729188000@omasgegenrechts-deutschland.de
SUMMARY:Präsenztreffen OMAS GEGEN RECHTS Kassel
DESCRIPTION:Die OMAS GEGEN RECHTS Kassel treffen sich jeden 3. Donnerstag im Monat in Präsenz. \nBeginn für neue\, interessierte OMAS ist 15.00Uhr. \nBeginn Plenum ist 15.30Uhr. \nEnde gegen 18.00Uhr. \nOrt: Haus der Sozialwirtschaft\, Treppe 4\, Viva / 5. Stock\, Treppenstraße 4\, 34117 Kassel
URL:https://omasgegenrechts-deutschland.de/termin/praesenztreffen-omas-gegen-rechts-kassel-6/
LOCATION:34117 Kassel\, Haus der Sozialwirtschaft\, Kassel\, 34117\, Deutschland
END:VEVENT
BEGIN:VEVENT
DTSTART;TZID=Europe/Berlin:20241020T133000
DTEND;TZID=Europe/Berlin:20241020T180000
DTSTAMP:20260423T135323
CREATED:20241017T093828Z
LAST-MODIFIED:20241017T093828Z
UID:5185-1729431000-1729447200@omasgegenrechts-deutschland.de
SUMMARY:Dresden: PEGIDA MACHT SCHLUSS!
DESCRIPTION:Wir teilen den Aufruf von Herz statt Hetze: \nDie Luft ist raus. \nDie menschenverachtende Pegida wirft nach 10 Jahren das Handtuch. Mit einem letzten Event am kommenden Sonntag von 14:00 bis 18:00 Uhr auf dem Neumarkt. Ein „Spaziergang“ ist auch geplant. Lasst uns gemeinsam dafür sorgen\, dass auch dieses letzte Event ein Desaster wird. \nWir sind ab 13:30 Uhr vor der Frauenkirche\, mit Raum für eigene Inhalte und Raum für viel Lärm. Bringt also Transparente\, Plakate\, Schilder\, Straßenmalkreide und alles\, was Lärm macht (Trillerpfeifen\, Tröten\, Topfdeckel\, Kochtöpfe & Löffel\, Musikinstrumente aller Art) mit. Menschenverachtung und Hass sollen auf dem Neumarkt keine Chance bekommen. \nMit uns haben viele andere Menschen den Nachmittag geplant. Wir werden uns nicht mit dem Platz vor der Frauenkirche bescheiden… Und für alle\, die nicht allein ins Zentrum kommen wollen\, wird es eine Zubringerdemo aus der Neustadt geben.  \nLasst uns gemeinsam dafür sorgen\, dass das letzte Pegida-Event kein Höhepunkt für Rechtsextreme wird. \nAlle zusammen gegen den Faschismus! Nie wieder ist jetzt!
URL:https://omasgegenrechts-deutschland.de/termin/dresden-pegida-macht-schluss/
LOCATION:Dresden\, vor der Frauenkirche\, Neumarkt\, Dresden
ATTACH;FMTTYPE=image/jpeg:https://omasgegenrechts-deutschland.de/wp-content/uploads/2024/10/PEGIDA-MACHT-SCHLUSS.jpg
END:VEVENT
END:VCALENDAR