BEGIN:VCALENDAR
VERSION:2.0
PRODID:-//OMAS GEGEN RECHTS DEUTSCHLAND-BÜNDNIS - ECPv6.15.16//NONSGML v1.0//EN
CALSCALE:GREGORIAN
METHOD:PUBLISH
X-ORIGINAL-URL:https://omasgegenrechts-deutschland.de
X-WR-CALDESC:Veranstaltungen für OMAS GEGEN RECHTS DEUTSCHLAND-BÜNDNIS
REFRESH-INTERVAL;VALUE=DURATION:PT1H
X-Robots-Tag:noindex
X-PUBLISHED-TTL:PT1H
BEGIN:VTIMEZONE
TZID:Europe/Berlin
BEGIN:DAYLIGHT
TZOFFSETFROM:+0100
TZOFFSETTO:+0200
TZNAME:CEST
DTSTART:20240331T010000
END:DAYLIGHT
BEGIN:STANDARD
TZOFFSETFROM:+0200
TZOFFSETTO:+0100
TZNAME:CET
DTSTART:20241027T010000
END:STANDARD
BEGIN:DAYLIGHT
TZOFFSETFROM:+0100
TZOFFSETTO:+0200
TZNAME:CEST
DTSTART:20250330T010000
END:DAYLIGHT
BEGIN:STANDARD
TZOFFSETFROM:+0200
TZOFFSETTO:+0100
TZNAME:CET
DTSTART:20251026T010000
END:STANDARD
BEGIN:DAYLIGHT
TZOFFSETFROM:+0100
TZOFFSETTO:+0200
TZNAME:CEST
DTSTART:20260329T010000
END:DAYLIGHT
BEGIN:STANDARD
TZOFFSETFROM:+0200
TZOFFSETTO:+0100
TZNAME:CET
DTSTART:20261025T010000
END:STANDARD
END:VTIMEZONE
BEGIN:VEVENT
DTSTART;TZID=Europe/Berlin:20250116T150000
DTEND;TZID=Europe/Berlin:20250116T180000
DTSTAMP:20260423T180021
CREATED:20241213T134735Z
LAST-MODIFIED:20241213T134735Z
UID:5249-1737039600-1737050400@omasgegenrechts-deutschland.de
SUMMARY:Präsenztreffen OMAS GEGEN RECHTS Kassel
DESCRIPTION:Die OMAS GEGEN RECHTS Kassel treffen sich jeden 3. Donnerstag im Monat. \nBeginn für Neue\, Interessierte ist um 15.00Uhr. \nBeginn Plenum ist um 15.30Uhr
URL:https://omasgegenrechts-deutschland.de/termin/praesenztreffen-omas-gegen-rechts-kassel-9/
LOCATION:Viva\, Treppenstraße 4\, Kassel\, 34117
END:VEVENT
BEGIN:VEVENT
DTSTART;TZID=Europe/Berlin:20250118T130000
DTEND;TZID=Europe/Berlin:20250118T150000
DTSTAMP:20260423T180021
CREATED:20250116T104100Z
LAST-MODIFIED:20250116T104100Z
UID:5292-1737205200-1737212400@omasgegenrechts-deutschland.de
SUMMARY:Demo: menschlich\, solidarisch\, vielfältig am 18.1.2025
DESCRIPTION:
URL:https://omasgegenrechts-deutschland.de/termin/demo-menschlich-solidarisch-vielfaeltig-am-18-1-2025/
END:VEVENT
END:VCALENDAR