BEGIN:VCALENDAR
VERSION:2.0
PRODID:-//OMAS GEGEN RECHTS DEUTSCHLAND-BÜNDNIS - ECPv6.15.16//NONSGML v1.0//EN
CALSCALE:GREGORIAN
METHOD:PUBLISH
X-WR-CALNAME:OMAS GEGEN RECHTS DEUTSCHLAND-BÜNDNIS
X-ORIGINAL-URL:https://omasgegenrechts-deutschland.de
X-WR-CALDESC:Veranstaltungen für OMAS GEGEN RECHTS DEUTSCHLAND-BÜNDNIS
REFRESH-INTERVAL;VALUE=DURATION:PT1H
X-Robots-Tag:noindex
X-PUBLISHED-TTL:PT1H
BEGIN:VTIMEZONE
TZID:Europe/Berlin
BEGIN:DAYLIGHT
TZOFFSETFROM:+0100
TZOFFSETTO:+0200
TZNAME:CEST
DTSTART:20240331T010000
END:DAYLIGHT
BEGIN:STANDARD
TZOFFSETFROM:+0200
TZOFFSETTO:+0100
TZNAME:CET
DTSTART:20241027T010000
END:STANDARD
BEGIN:DAYLIGHT
TZOFFSETFROM:+0100
TZOFFSETTO:+0200
TZNAME:CEST
DTSTART:20250330T010000
END:DAYLIGHT
BEGIN:STANDARD
TZOFFSETFROM:+0200
TZOFFSETTO:+0100
TZNAME:CET
DTSTART:20251026T010000
END:STANDARD
BEGIN:DAYLIGHT
TZOFFSETFROM:+0100
TZOFFSETTO:+0200
TZNAME:CEST
DTSTART:20260329T010000
END:DAYLIGHT
BEGIN:STANDARD
TZOFFSETFROM:+0200
TZOFFSETTO:+0100
TZNAME:CET
DTSTART:20261025T010000
END:STANDARD
END:VTIMEZONE
BEGIN:VEVENT
DTSTART;TZID=Europe/Berlin:20250208T001600
DTEND;TZID=Europe/Berlin:20250208T170000
DTSTAMP:20260423T220839
CREATED:20250203T133407Z
LAST-MODIFIED:20250203T133407Z
UID:5321-1738973760-1739034000@omasgegenrechts-deutschland.de
SUMMARY:Reutlingen: Wir sind die Brandmauer gegen Rechts.....Brüche
DESCRIPTION:
URL:https://omasgegenrechts-deutschland.de/termin/reutlingen-wir-sind-die-brandmauer-gegen-rechts-brueche/
END:VEVENT
BEGIN:VEVENT
DTSTART;TZID=Europe/Berlin:20250208T113000
DTEND;TZID=Europe/Berlin:20250208T130000
DTSTAMP:20260423T220839
CREATED:20250120T115952Z
LAST-MODIFIED:20250120T115952Z
UID:5300-1739014200-1739019600@omasgegenrechts-deutschland.de
SUMMARY:Menschenkette "Hand in Hand für Demokratie" am 8.2.2025
DESCRIPTION:Am bundesweiten Aktionstag der OMAS GEGEN RECHTS veranstalten wir OMAS in Kassel eine Menschenkette. Sei dabei!
URL:https://omasgegenrechts-deutschland.de/termin/menschenkette-hand-in-hand-fuer-demokratie-am-8-2-2025/
LOCATION:Rathaus Kassel\, 34117 Kassel
END:VEVENT
BEGIN:VEVENT
DTSTART;TZID=Europe/Berlin:20250220T163000
DTEND;TZID=Europe/Berlin:20250220T193000
DTSTAMP:20260423T220840
CREATED:20241213T135155Z
LAST-MODIFIED:20250116T104937Z
UID:5254-1740069000-1740079800@omasgegenrechts-deutschland.de
SUMMARY:Präsenztreffen OMAS GEGEN RECHTS Kassel
DESCRIPTION:Die OMAS GEGEN RECHTS Kassel treffen sich i. d. R. jeden 3. Donnerstag im Monat. \nBeginn für Neue\, Interessierte ist heute ausnahmsweise um 16.30Uhr. \nBeginn Plenum ist heute ausnahmsweise um 17.00Uh
URL:https://omasgegenrechts-deutschland.de/termin/praesenztreffen-omas-gegen-rechts-kassel-10/
LOCATION:Viva\, Treppenstraße 4\, Kassel\, 34117
END:VEVENT
END:VCALENDAR