BEGIN:VCALENDAR
VERSION:2.0
PRODID:-//OMAS GEGEN RECHTS DEUTSCHLAND-BÜNDNIS - ECPv6.15.16//NONSGML v1.0//EN
CALSCALE:GREGORIAN
METHOD:PUBLISH
X-ORIGINAL-URL:https://omasgegenrechts-deutschland.de
X-WR-CALDESC:Veranstaltungen für OMAS GEGEN RECHTS DEUTSCHLAND-BÜNDNIS
REFRESH-INTERVAL;VALUE=DURATION:PT1H
X-Robots-Tag:noindex
X-PUBLISHED-TTL:PT1H
BEGIN:VTIMEZONE
TZID:Europe/Berlin
BEGIN:DAYLIGHT
TZOFFSETFROM:+0100
TZOFFSETTO:+0200
TZNAME:CEST
DTSTART:20220327T010000
END:DAYLIGHT
BEGIN:STANDARD
TZOFFSETFROM:+0200
TZOFFSETTO:+0100
TZNAME:CET
DTSTART:20221030T010000
END:STANDARD
BEGIN:DAYLIGHT
TZOFFSETFROM:+0100
TZOFFSETTO:+0200
TZNAME:CEST
DTSTART:20230326T010000
END:DAYLIGHT
BEGIN:STANDARD
TZOFFSETFROM:+0200
TZOFFSETTO:+0100
TZNAME:CET
DTSTART:20231029T010000
END:STANDARD
BEGIN:DAYLIGHT
TZOFFSETFROM:+0100
TZOFFSETTO:+0200
TZNAME:CEST
DTSTART:20240331T010000
END:DAYLIGHT
BEGIN:STANDARD
TZOFFSETFROM:+0200
TZOFFSETTO:+0100
TZNAME:CET
DTSTART:20241027T010000
END:STANDARD
END:VTIMEZONE
BEGIN:VEVENT
DTSTART;TZID=Europe/Berlin:20230605T093000
DTEND;TZID=Europe/Berlin:20230605T100000
DTSTAMP:20260421T122135
CREATED:20230530T122908Z
LAST-MODIFIED:20230530T122909Z
UID:4452-1685957400-1685959200@omasgegenrechts-deutschland.de
SUMMARY:Bochum: Ein Stolperstein für Wilhelm Franz (Willy) Klein
DESCRIPTION:Auch in diesem Jahr verlegt der Künstler Jürgen Demnig in an verschiedenen Orten in Bochum am Montag\, den 5. Juni 2023 Stolpersteine zur Erinnerung an die Opfer des nationalsozialistischen Regimes. Die OMAS GEGEN RECHTS Bochum & West sind Patinnen des Stolpersteins für das sogenannte „Euthanasie-Opfer“ Wilhelm Franz (Willy) Klein\, der 1943 als 13jähriger Junge in der Tötungsanstalt Obrawalde-Meseritz ermordet wurde. Die Verlegung des Stolpersteins für Willy erfolgt am 5.6.23 um 9.40 Uhr an der Blumenfeldstraße (gegenüber Hausnummer 73) in Bochum.\nDie Präsentation der Rechercheergebnisse zu allen Opfern\, für die in diesem Jahr in Bochum Stolpersteine verlegt werden\, findet am Donnerstag\, den 01.06.2023 um 17.30 Uhr im Stadtarchiv Bochum\, Wittener Str. 47\, 44789 Bochum statt.\nWir OMAS GEGEN RECHTS laden alle Interessierten sehr herzlich zu beiden Veranstaltungen ein. \nAusführliche Informationen unter \n15 neue Stolpersteine in Bochum
URL:https://omasgegenrechts-deutschland.de/termin/bochum-ein-stolperstein-fuer-wilhelm-franz-willy-klein/
LOCATION:Blumenfeldstr. 73\, Bochum
END:VEVENT
END:VCALENDAR